BEGIN:VCALENDAR
VERSION:2.0
PRODID:-//Onarto Art Store - ECPv5.16.2.1//NONSGML v1.0//EN
CALSCALE:GREGORIAN
METHOD:PUBLISH
X-WR-CALNAME:Onarto Art Store
X-ORIGINAL-URL:https://onarto.com
X-WR-CALDESC:Events for Onarto Art Store
BEGIN:VTIMEZONE
TZID:Asia/Krasnoyarsk
BEGIN:STANDARD
TZOFFSETFROM:+0700
TZOFFSETTO:+0700
TZNAME:+07
DTSTART:20170101T000000
END:STANDARD
END:VTIMEZONE
BEGIN:VEVENT
DTSTART;TZID=Asia/Krasnoyarsk:20170623T230000
DTEND;TZID=Asia/Krasnoyarsk:20170625T230000
DTSTAMP:20260426T101901
CREATED:20170620T050055Z
LAST-MODIFIED:20170620T031633Z
UID:19677-1498258800-1498431600@onarto.com
SUMMARY:Volve Hotel Bangkok - LYLA Gallery: Hotel Art Fair Bangkok 2017
DESCRIPTION:LYLA Gallery l Hotel Art Fair Bangkok 2017\nFeatured artist: Arjinjonathan Arjinkit l Eiji Sumi l Mit Jai Inn l Pichakorn Chukiew l NAAdesign l Supmanee Chaisansuk\nRoom 206\, Volve Hotel Bangkok (Sukhumvit 53)\n23 – 25 June 2017 \nWe are pleased to announce that Lyla Gallery will feature works by our outstanding artists: Arjinjonathan Arjinkit l Eiji Sumi l Mit Jai Inn l Pichakorn Chukiew l NAAdesign l Supmanee Chaisansuk at the Hotel Art Fair Bangkok 2017 during 23 0 25 June 2017. The fair will take place at Volve Hotel\, Bangkok\, Thailand. \nAbout artist:\nArjinjonathan is best known for his signature vibrant color palette. He has been exploring the idea of contemporary society both in socio-political perspective and aesthetic perspective through his painting process. Material\, process and color has always been areas of Arjinkit core practice. In his painting\, he often employs industrial paint\, commercial paint and other industrial material in his painting process. His signature bright\, vibrant and vivid color is his visual aspect of today’s society that in line with the current global landscape. Arjinkit refers to his color as ‘color of today’s everyday life’. \nEiji Sumi is Japanese artist\, base in Bangkok. Sumi’s mix media approach explore research in materials\, contextualizing digital media\, lighting into various forms and experience\, Installation experiments in environment probing the relationship between art and science\, architectural and public art and urban landscapes of social issues. Sumi has worked in New York as an artist and was commissioned by various clients in design. During his time in New York\, Sumi gained attention with his projects ranging from mixed-media\, lighting installations\, painting and drawing. \nMit Jai Inn is a pioneer of Thai contemporary art. His artwork is a testimony of his attitude toward life and his political point of view. His multi-layered abstract works hover between painting and sculpture\, never quite fitting into either category. He work has been widely exhibited both nationally and internationally. \nNAAdesign is Chiang Mai-based design brand\, and is co-founded by France designer\, Laudine Dubeaux and Thai journalist\, Arnut Saento. The brand entitled “NAA/ นะะ design” is a mix of Frech and Thai word; In French “Naa !” would be a childish but yet sassy word whether in Thai it will be a punchy one inviting to make a move. NAAdesign’s work is inspired by Northern Thai culture\, color\, material and its traditional craftsmanship. \nPichakorn Chukiew or known as tua pen not is Chiang Mai-based artist. He has been consistently working on his abstract painting. He often apply everyday objects and collage elements in his painting. \nSupmanee CHaisansuk is a self-taught artist. She earned a Bachelor of Science Degree (Architecture) and a Master of Architecture(mainly in Architectural Technology & Environmental Design) from the Faculty of Architecture and Planning\,Thammasat University\, Thailand. She’s started her painting in 2009 due to her heath issue. Her colorful\, passionate and innovative work often inspired by the beauty of the nature. \nVIP Opening Reception: 23 June 2017\, 6 pm\nHotel Art Fair Bangkok 2017 hours: 24-25 June 2017\, 11 am – 11 pm \nFor more information and press inquiry\, please contact info@lylagallery.com or +66-84-3881488
URL:https://onarto.com/art-event/volve-hotel-bangkok-lyla-gallery-hotel-art-fair-bangkok-2017/
LOCATION:Volve Hotel Bangkok\, 26/1 Sukhumvit 53\, Khlong Tan Nuea\, Watthana\, Bangkok\, Bangkok\, 10110\, Thailand
CATEGORIES:Art Fair,Other Events
ATTACH;FMTTYPE=image/jpeg:https://onarto.com/wp-content/uploads/2017/06/facebook_event_2020058558282189.jpg
END:VEVENT
END:VCALENDAR