BEGIN:VCALENDAR
VERSION:2.0
PRODID:-//Onarto Art Store - ECPv5.16.2.1//NONSGML v1.0//EN
CALSCALE:GREGORIAN
METHOD:PUBLISH
X-WR-CALNAME:Onarto Art Store
X-ORIGINAL-URL:https://onarto.com
X-WR-CALDESC:Events for Onarto Art Store
BEGIN:VTIMEZONE
TZID:Asia/Krasnoyarsk
BEGIN:STANDARD
TZOFFSETFROM:+0700
TZOFFSETTO:+0700
TZNAME:+07
DTSTART:20170101T000000
END:STANDARD
END:VTIMEZONE
BEGIN:VEVENT
DTSTART;TZID=Asia/Krasnoyarsk:20170727T150000
DTEND;TZID=Asia/Krasnoyarsk:20170730T210000
DTSTAMP:20260426T073445
CREATED:20170725T030029Z
LAST-MODIFIED:20170713T040141Z
UID:20130-1501167600-1501448400@onarto.com
SUMMARY:The Ritz-Carlton - Artemis Art - Art Fair: Art Jakarta 2017
DESCRIPTION:Formerly known as Bazaar Art Jakarta\, Art Jakarta 2017 is the 9th edition of Indonesia’s first and largest art fair. As it has been for the last several editions\, the art fair takes place in the Grand Ballroom of Ritz-Carlton Jakarta Pacific Place. This year the fair will commence on July 27 and runs through the weekend until July 30. \nArtemis Art made our debut last year\, and this year we return with an expanded selection of works from four emerging visual artists from Indonesia and Malaysia: Dedy Sufriadi\, Indra Dodi\, Robi Fathoni\, and Umibaizurah Mahir. \nFor further information on the artists and their artworks\, contact us at info@artemisartgallery.com.
URL:https://onarto.com/art-event/the-ritz-carlton-artemis-art-art-fair-art-jakarta-2017/
LOCATION:The Ritz-Carlton\, Sudirman Central Business District Jalan Jendral Sudirman Kav. 52-53\, Jakarta\, DKI Jakarta\, 12190\, Indonesia
CATEGORIES:Art Fair,Other Events
ATTACH;FMTTYPE=image/jpeg:https://onarto.com/wp-content/uploads/2017/07/facebook_event_287602994982003.jpg
END:VEVENT
END:VCALENDAR