BEGIN:VCALENDAR
VERSION:2.0
PRODID:-//Onarto Art Store - ECPv5.16.2.1//NONSGML v1.0//EN
CALSCALE:GREGORIAN
METHOD:PUBLISH
X-WR-CALNAME:Onarto Art Store
X-ORIGINAL-URL:https://onarto.com
X-WR-CALDESC:Events for Onarto Art Store
BEGIN:VTIMEZONE
TZID:Asia/Krasnoyarsk
BEGIN:STANDARD
TZOFFSETFROM:+0700
TZOFFSETTO:+0700
TZNAME:+07
DTSTART:20170101T000000
END:STANDARD
END:VTIMEZONE
BEGIN:VEVENT
DTSTART;TZID=Asia/Krasnoyarsk:20170705T110000
DTEND;TZID=Asia/Krasnoyarsk:20170713T190000
DTSTAMP:20260426T102022
CREATED:20170703T050008Z
LAST-MODIFIED:20170703T042748Z
UID:19908-1499252400-1499972400@onarto.com
SUMMARY:Sathorn 11 Art Space - International Street Art Exhibition - Brotherhood
DESCRIPTION:Warm greetings from Sathorn 11 Art Space ! \nWe would like to invite you \,as our guest to an\nInternational Street Art Exhibition\n3 Artists from 3 Country working together ! \nArtists\nStranger Twins (TH-JP)\nTRK (TH)\nHideyuki Katsumata (JP)\nJaeJung Beck (KR) \nOpening Reception\nWednesday 5th July 2017\nat 19:00 \nActivity\n– Live Painting by JaeJung and TRK\n– DJ \n“เมื่อสามชาติ สามวัฒนธรรม\nถูกรวบรวมไว้บนรูปแบบทางศิลปะเดียวกัน . . .” \nนิทรรศการ “Brotherhood”\nนิทรรศการที่รวบรวมศิลปินทั้งสามเชื้อชาติ ไว้ด้วยกัน สร้างสรรค์งานศิลปะที่มีแนวทางเดียวกัน มิตรภาพที่เกิดขึ้นบนผืนผ้าใบ เชื่อมโยงทั้งรูปแบบและศิลปะวัฒนธรรมที่มีความแตกต่างกันของแต่ละประเทศ เข้าไว้ด้วยกันได้อย่างกลมกลืน ลงตัว \nสาทร 11 อาร์ต สเปซ\nขอเรียนเชิญทุกท่าน ร่วมงานเปิดนิทรรศการ “Brotherhood”\nในวันพุธที่ 5 กรกฏาคม 2560\nเวลา 19:00 น. เป็นต้นไป \nกิจกรรม\n– Live Painting โดยศิลปิน JaeJung และ TRK\n– DJ\n– Free Drink \nSponsor\nBudweiser
URL:https://onarto.com/art-event/sathorn-11-art-space-international-street-art-exhibition-brotherhood/
LOCATION:Sathorn 11 art space\, 404 Sathorn Soi 11\, South Sathorn Rd.\, Bangkok\, 10120\, Thailand
CATEGORIES:Art Fair
ATTACH;FMTTYPE=image/jpeg:https://onarto.com/wp-content/uploads/2017/06/facebook_event_114884215796081.jpg
END:VEVENT
END:VCALENDAR