BEGIN:VCALENDAR
VERSION:2.0
PRODID:-//Onarto Art Store - ECPv5.16.2.1//NONSGML v1.0//EN
CALSCALE:GREGORIAN
METHOD:PUBLISH
X-WR-CALNAME:Onarto Art Store
X-ORIGINAL-URL:https://onarto.com
X-WR-CALDESC:Events for Onarto Art Store
BEGIN:VTIMEZONE
TZID:Asia/Shanghai
BEGIN:STANDARD
TZOFFSETFROM:+0800
TZOFFSETTO:+0800
TZNAME:CST
DTSTART:20170101T000000
END:STANDARD
END:VTIMEZONE
BEGIN:VEVENT
DTSTART;TZID=Asia/Shanghai:20170809T110000
DTEND;TZID=Asia/Shanghai:20170810T180000
DTSTAMP:20260426T113154
CREATED:20170806T030018Z
LAST-MODIFIED:20170731T040800Z
UID:20294-1502276400-1502388000@onarto.com
SUMMARY:SAM - National Day Open House with Contemporary Art
DESCRIPTION:Celebrate National Day with contemporary art at SAM at 8Q. Enjoy free entry from 10am and engage in fun\, family friendly activities themed around the occasion and SAM’s family-focused exhibition\, Imaginarium: To the Ends of the Earth.
URL:https://onarto.com/art-event/sam-national-day-open-house-with-contemporary-art/
LOCATION:8Q SAM\, 8 Queen St\, 188535\, Singapore
CATEGORIES:Art Course
ATTACH;FMTTYPE=image/jpeg:https://onarto.com/wp-content/uploads/2017/07/facebook_event_281125299023227.jpg
END:VEVENT
END:VCALENDAR