BEGIN:VCALENDAR
VERSION:2.0
PRODID:-//Onarto Art Store - ECPv5.16.2.1//NONSGML v1.0//EN
CALSCALE:GREGORIAN
METHOD:PUBLISH
X-WR-CALNAME:Onarto Art Store
X-ORIGINAL-URL:https://onarto.com
X-WR-CALDESC:Events for Onarto Art Store
BEGIN:VTIMEZONE
TZID:Asia/Shanghai
BEGIN:STANDARD
TZOFFSETFROM:+0800
TZOFFSETTO:+0800
TZNAME:CST
DTSTART:20170101T000000
END:STANDARD
END:VTIMEZONE
BEGIN:VEVENT
DTSTART;TZID=Asia/Shanghai:20170812T143000
DTEND;TZID=Asia/Shanghai:20170812T163000
DTSTAMP:20260426T073439
CREATED:20170810T030042Z
LAST-MODIFIED:20170731T041746Z
UID:20213-1502548200-1502555400@onarto.com
SUMMARY:SAM - Eco-Living Series: Grow and Go Green with Herb in a Cup
DESCRIPTION:Interested to grow your own food? Learn how to make compost\, seed bombs\, DIY plant and herb kits\, herb racks and more – all using eco-friendly methods! You will also pick up tips on recycling daily used materials. \nThe workshop includes hands-on activities like learning to propagate herbs via stem cuttings\, making a self-wicking system\, suspended herb rack and seed bombs\, as well as demonstrations of pesticide sprays\, making your own compost tub\, and sharing of vegetables and herbs suitable for urban environments. \nAll participants will take home a complimentary mushroom-in-a-cup kit along with their own workshop creations. \nEach ticket admits a parent-child pair (recommended for children above 4 years)\, or a single pax age 8 and above. Children under age 8 must be accompanied by an adult. Participants are strongly encouraged to bring two to three 1.5 litre plastic bottles to the workshop. \nAbout the facilitator: Social entrepreneur Balan Gopal founded Herb in a cup to promote Farming In Built Up Areas (FIBUA) and to act as a cross-platform for organic and recycling initiatives. He believes that education and the application of eco projects provide vital solutions to the challenges in today’s landscape\, and his mission is to make Singapore a true ‘green’ food paradise with a focus on healthy and mindful living.
URL:https://onarto.com/art-event/sam-eco-living-series-grow-and-go-green-with-herb-in-a-cup/
CATEGORIES:Art Course,Other Events
ATTACH;FMTTYPE=image/jpeg:https://onarto.com/wp-content/uploads/2017/07/facebook_event_194981284368916.jpg
END:VEVENT
END:VCALENDAR