BEGIN:VCALENDAR
VERSION:2.0
PRODID:-//Onarto Art Store - ECPv5.16.2.1//NONSGML v1.0//EN
CALSCALE:GREGORIAN
METHOD:PUBLISH
X-WR-CALNAME:Onarto Art Store
X-ORIGINAL-URL:https://onarto.com
X-WR-CALDESC:Events for Onarto Art Store
BEGIN:VTIMEZONE
TZID:Asia/Krasnoyarsk
BEGIN:STANDARD
TZOFFSETFROM:+0700
TZOFFSETTO:+0700
TZNAME:+07
DTSTART:20170101T000000
END:STANDARD
END:VTIMEZONE
BEGIN:VEVENT
DTSTART;TZID=Asia/Krasnoyarsk:20170707T200000
DTEND;TZID=Asia/Krasnoyarsk:20170707T200000
DTSTAMP:20260426T101614
CREATED:20170705T030033Z
LAST-MODIFIED:20170703T052337Z
UID:19942-1499457600-1499457600@onarto.com
SUMMARY:JAM - Screening: Flummoxed Cocoon + Live performance
DESCRIPTION:Beam Wong’s new experimental sci-fi musical short\, ‘Flummoxed Cocoon’ which just premiered at the Bangkok Underground Film Festival at the Noise Market 6 will enjoy a more intimate screening upstairs at Jam. \nAfter the screening\, we will be treated to a live performance by MILF and Beam Wong and Friends playing songs from the film\, or rather songs that became later became the film. \n// By Donation // \nFlummoxed Cocoon Soundtrack will also be available for purchase on the night. \nFLUMMOXED COCOON\nA songwriter who transforms to a cocoon. He tries to cure himself by writing more songs but this inadvertently brings into existence a girl. \nBEAM WONG\nBangkok filmmaker\, illustrator and noise artist who wants to mix pop with noise and turn it to be some kind of music.\nhttps://www.facebook.com/Beam-Wong-391731600962807/\n\nhttps://www.youtube.com/channel/UCCmtHJCqfltFEh8g1uTRWyg/videos \nMILF (Mama I Like Flower) แม่ครับผมชอบผู้หญิง\nA new Thai experimental 3 piece consisting of Midvase + John Doe + Bulbkids.\n\nhttps://soundcloud.com/midsvase\nhttps://soundcloud.com/tawayahc-sn
URL:https://onarto.com/art-event/jam-screening-flummoxed-cocoon-live-performance/
LOCATION:JAM\, 41 Soi Rong Nam Kang (Charoen Rat Soi 1)\, Sathorn - Surasak BTS Exit 2\, Bangkok\, 10120\, Thailand
CATEGORIES:Art Fair
ATTACH;FMTTYPE=image/jpeg:https://onarto.com/wp-content/uploads/2017/06/facebook_event_101972613755524.jpg
END:VEVENT
END:VCALENDAR