BEGIN:VCALENDAR
VERSION:2.0
PRODID:-//Onarto Art Store - ECPv5.16.2.1//NONSGML v1.0//EN
CALSCALE:GREGORIAN
METHOD:PUBLISH
X-WR-CALNAME:Onarto Art Store
X-ORIGINAL-URL:https://onarto.com
X-WR-CALDESC:Events for Onarto Art Store
BEGIN:VTIMEZONE
TZID:Asia/Shanghai
BEGIN:STANDARD
TZOFFSETFROM:+0800
TZOFFSETTO:+0800
TZNAME:CST
DTSTART:20170101T000000
END:STANDARD
END:VTIMEZONE
BEGIN:VEVENT
DTSTART;TZID=Asia/Shanghai:20170617T100000
DTEND;TZID=Asia/Shanghai:20170725T160000
DTSTAMP:20260426T101955
CREATED:20170615T030024Z
LAST-MODIFIED:20170613T032141Z
UID:19430-1497693600-1500998400@onarto.com
SUMMARY:Praxis Space - Izzad Radzali Shah: Matlamat jangka panjang
DESCRIPTION:Join us for the opening reception! \nIzzad Radzali Shah\nMatlamat jangka panjang (Long-term goal) \nExhibition runs Saturday 17 June – Tuesday 25 July 2017\nArtist’s talk with curator Melanie Pocock: Saturday 17 June\, 3:00-4:00 pm \nPraxis Space and Project Space \nFor his first solo exhibition\, Izzad Radzali Shah (born Singapore\, 1986) presents works on paper and canvas\, digital drawings and wall paintings in an installation conceived especially for Praxis Space and Project Space. \nICA Singapore invited Izzad to consider his journey as an artist following graduation from LASALLE’s BA(Hons) Fine Arts programme in 2013. Among the questions raised by Izzad were: How can artists sustain critical thinking and practice beyond art school? How do living and material conditions affect the practices of emerging artists in Singapore? \nThis exhibition features works made from 2015 to 2017. In December 2015\, Izzad made a trip to Yogyakarta in Indonesia\, where he met a number of young artists. Their commitment to art making inspired him to continue his own practice using his Malay heritage. This heritage manifests in the works through recurring motifs\, such as the tiger\, a common symbol in Malay folklore\, and the bamboo shoot\, which represents relationships between the divine\, spiritual and natural worlds in Malay philosophy. \nWorks in the exhibition also reflect the ‘raw’ conditions in which they were created. Izzad’s paintings often use found materials as support\, their existing dimensions informing the size of the paintings. His digital works were made using a now superseded photo editing app on his mobile phone. This format is reflected in the exhibition via their presentation on iPad screens. \nIzzad has arranged these works and painted directly onto the walls of the galleries. The wall paintings reflect his ‘loose’ approach to drawing and his interest in figuration. \n@izzadradzalishah\n#matlamatjangkapanjang\n#longtermgoal \nImage: Izzad Radzali Shah\, ‘Sang harimau (The tiger)’\, 2016\, digital image\, dimensions variable. © Courtesy the artist
URL:https://onarto.com/art-event/izzad-radzali-shah-matlamat-jangka-panjang-long-term-goal/
CATEGORIES:Other Events
ATTACH;FMTTYPE=image/jpeg:https://onarto.com/wp-content/uploads/2017/06/facebook_event_241327969700572.jpg
END:VEVENT
END:VCALENDAR