BEGIN:VCALENDAR
VERSION:2.0
PRODID:-//Onarto Art Store - ECPv5.16.2.1//NONSGML v1.0//EN
CALSCALE:GREGORIAN
METHOD:PUBLISH
X-WR-CALNAME:Onarto Art Store
X-ORIGINAL-URL:https://onarto.com
X-WR-CALDESC:Events for Onarto Art Store
BEGIN:VTIMEZONE
TZID:Asia/Shanghai
BEGIN:STANDARD
TZOFFSETFROM:+0800
TZOFFSETTO:+0800
TZNAME:CST
DTSTART:20170101T000000
END:STANDARD
END:VTIMEZONE
BEGIN:VEVENT
DTSTART;TZID=Asia/Shanghai:20170715T150000
DTEND;TZID=Asia/Shanghai:20170715T170000
DTSTAMP:20260426T084509
CREATED:20170711T030038Z
LAST-MODIFIED:20170707T040001Z
UID:19098-1500130800-1500138000@onarto.com
SUMMARY:Ilham Gallery - Ilham Contemporary Forum Project Curators
DESCRIPTION:PUBLIC FORUM\nMEET THE CURATORS\n15 July\, 3:00pm \nIn this public forum\, ILHAM CONTEMPORARY FORUM Project Curators will share their developing thoughts on the project\, and engage audiences with their observations and opinions on the work on display\, the themes and contexts as well as the underlying conditions of contemporary Malaysian art and culture. \n  \nFORUM UMUM\nBERTEMU KURATOR\n15 Julai\, 3:00ptg \nDalam forum umum ini Kurator Projek ILHAM CONTEMPORARY FORUM akan berkongsi buah fikiran mereka ketika membangunkan projek ini\, dan berkongsi pemerhatian dan pendapat mereka tentang karya-karya yang dipamerkan\, tema dan konteks disamping menghuraikan tentang keadaan di sekitar seni dan budaya kontemporari Malaysia.
URL:https://onarto.com/art-event/ilham-gallery-ilham-contemporary-forum-project-curators/
LOCATION:Ilham Gallery\, No. 8 Jalan Binjai\, Off Persiaran KLCC\, Kuala Lumpur\, 50450\, Malaysia
CATEGORIES:Art Course,Art Fair,Other Events
ATTACH;FMTTYPE=image/jpeg:https://onarto.com/wp-content/uploads/2017/06/facebook_event_140545676493241.jpg
END:VEVENT
END:VCALENDAR