BEGIN:VCALENDAR
VERSION:2.0
PRODID:-//Onarto Art Store - ECPv5.16.2.1//NONSGML v1.0//EN
CALSCALE:GREGORIAN
METHOD:PUBLISH
X-WR-CALNAME:Onarto Art Store
X-ORIGINAL-URL:https://onarto.com
X-WR-CALDESC:Events for Onarto Art Store
BEGIN:VTIMEZONE
TZID:Asia/Krasnoyarsk
BEGIN:STANDARD
TZOFFSETFROM:+0700
TZOFFSETTO:+0700
TZNAME:+07
DTSTART:20170101T000000
END:STANDARD
END:VTIMEZONE
BEGIN:VEVENT
DTSTART;TZID=Asia/Krasnoyarsk:20170705T190000
DTEND;TZID=Asia/Krasnoyarsk:20170705T220000
DTSTAMP:20260426T085552
CREATED:20170630T050039Z
LAST-MODIFIED:20170628T031220Z
UID:19777-1499281200-1499292000@onarto.com
SUMMARY:House of Lucie - Spark Magazine - One Shot ! One Minute ! EP.V
DESCRIPTION:Have you ever doubted what was in peoples’ mind when they took a photo? \nSpark Magazine X House of Lucie invites you to join an inspirational night at “One Shot ! One Minute! EP. V” — the event that will ignite your creative fire.\nThis event is for everyone who is passionate about photography and arts. \nWhat: Share your story (whatever you want to tell us) about your One impressive photo and how it impacts you or sparks your emotion in just One minute.\n(Please bring the photo with you to the event or send to houseoflucie@lucies.org.com for registration)\nWhen : Wednesday\, July 5\, 2017. 7.00 – 9.00 pm.\nWhere: House of Lucie\, Ekkamai Soi 8 \nEveryone is welcome! You don’t have to be a professional photographer or capable of all the photography techniques. Make it like you are telling your story among friends. \n***Free admission \,you just join us with One photo and go back home with fun ideas and inspiration! ;)
URL:https://onarto.com/art-event/house-of-lucie-spark-magazine-one-shot-one-minute-ep-v/
CATEGORIES:Other Events,Photography Exhibition
ATTACH;FMTTYPE=image/jpeg:https://onarto.com/wp-content/uploads/2017/06/facebook_event_144614016098183.jpg
END:VEVENT
END:VCALENDAR