BEGIN:VCALENDAR
VERSION:2.0
PRODID:-//Onarto Art Store - ECPv5.16.2.1//NONSGML v1.0//EN
CALSCALE:GREGORIAN
METHOD:PUBLISH
X-WR-CALNAME:Onarto Art Store
X-ORIGINAL-URL:https://onarto.com
X-WR-CALDESC:Events for Onarto Art Store
BEGIN:VTIMEZONE
TZID:Asia/Krasnoyarsk
BEGIN:STANDARD
TZOFFSETFROM:+0700
TZOFFSETTO:+0700
TZNAME:+07
DTSTART:20170101T000000
END:STANDARD
END:VTIMEZONE
BEGIN:VEVENT
DTSTART;TZID=Asia/Krasnoyarsk:20170630T190000
DTEND;TZID=Asia/Krasnoyarsk:20170630T210000
DTSTAMP:20260426T085252
CREATED:20170627T060049Z
LAST-MODIFIED:20170627T031928Z
UID:19789-1498849200-1498856400@onarto.com
SUMMARY:House of Lucie - Imaginary Line: Experimental Film
DESCRIPTION:Movie Night at House of Lucie! \nFilm: “Imaginary Line”- an experimental film by Naphawan Sittisak \nYear of origins: 2016\nLength: 17:50 min\nAspect ratio: 16:9 \nSynopsis:\nExploring lives\, hopes and perception of a brand new life via the territory of people’s thoughts. Skirting around the edges of the imaginary world presented on the written paper and in peoples mind. How do we navigate the space of conversation? With an experimental approach we will discover the interactions in one space and a certain time between two strangers in the middle of a refugee crisis. A question from this film is – “Could we be inspired by what happened\, and take a stand for a world in which every life matters?”\nThe documentary shows the viewpoint of the speakers in their purest form\, in parallel with the situation of crisis. How will the conversation manifest and flow between two strangers in an empty white room with only two chairs and one big world map on the wall. The white room stands as a metaphor for a world without religious barriers\, or social and national limitations. Moreover\, the map refers to the imaginary of national boundaries\, racial antagonisms and cultural group distinctions which are perceived. \nสารคดีเชิงทดลองที่พาคุณไปสำรวจ ชีวิต ความหวังและการรับรู้ของการต้องมีชีวิตใหม่ในต่างดินแดนของผู้อพยพชาวซีเรีย ผ่านขอบเขตความคิดความเข้าใจของพวกเขา ในมิติที่เราถูกขัดเกลาด้วยชุดความเชื่อที่เรากำหนดเขตแดนจำลองโลกลงผนแผ่นกระดาษที่เราเรียกว่า แผนที่ และการสำนึกรู้ถึงขอบเขตการแบ่งแยกซึ่งเชื้อชาติ ศาสนา กลุ่มวัฒนธรรมและความเชื่อในจิตใจของมนุษย์ ในการทดลองนี้มักจะมีคำถามหนึ่งเสมอว่า “เราจะนำพาบทสนทนาไปให้ตลอดรอดฝั่งได้อย่างไร” \nในห้องสีขาวที่เปรียบเสมือนโลกที่ไร้ซึ่งขอบเขตของกฎเกณฑ์หรือนิยาม อย่างเช่น ศาสนา สังคม หรือรัฐชาติ ฯลฯ เราจะมองเห็นการปฏิสัมพันธ์กันระหว่างคน 2 คน (Human being) ในพื้นที่พื้นที่หนึ่ง ช่วงระยะเวลาหนึ่ง ที่ไม่เคยรู้จักกันมาก่อน และมาจากต่างเขตแดน\, “เราต่างกันจริงหรือ? หรือจริงๆ แล้วเราก็เป็นมนุษย์ที่มีความรัก ความฝัน ความหวังและความต้องการเหมือนๆ กัน” ความไม่รู้จะสร้างช่องว่างเล็กๆ ที่เรียกว่าความกลัว ขึ้นภายในเสมอ \nท่ามกลางวิกฤตการ refugee crisis คำถามที่สำคัญจากหนังสารคดีเชิงทดลองในครั้งนี้คือ “เราได้รับแรงบันดาลใจจากวิกฤตการที่เกิดขึ้น อย่างไร เพื่อที่จะยืนหยัดบนโลกที่เราทุกคนให้คุณค่ากับ “ทุกชีวิตมีความสำคัญ”” \nสารคดีจะพาคุณเดินทางไปกับมุมมองและประสบการณ์จริงของผู้พูดท่ามกลางสถานการ์จริงที่เกิดขึ้น บทสนทนาของผู้แปลกหน้าที่เกิดขึ้นในห้องสีขาวที่มีเพียงเก้าอี้ / ตัวและแผนที่ จะไหลไปในทิศทางใด?
URL:https://onarto.com/art-event/house-of-lucie-imaginary-line-experimental-film/
CATEGORIES:Art Fair,Other Events
ATTACH;FMTTYPE=image/jpeg:https://onarto.com/wp-content/uploads/2017/06/facebook_event_101100437190295.jpg
END:VEVENT
END:VCALENDAR