BEGIN:VCALENDAR
VERSION:2.0
PRODID:-//Onarto Art Store - ECPv5.16.2.1//NONSGML v1.0//EN
CALSCALE:GREGORIAN
METHOD:PUBLISH
X-WR-CALNAME:Onarto Art Store
X-ORIGINAL-URL:https://onarto.com
X-WR-CALDESC:Events for Onarto Art Store
BEGIN:VTIMEZONE
TZID:Asia/Shanghai
BEGIN:STANDARD
TZOFFSETFROM:+0800
TZOFFSETTO:+0800
TZNAME:CST
DTSTART:20170101T000000
END:STANDARD
END:VTIMEZONE
BEGIN:VEVENT
DTSTART;TZID=Asia/Shanghai:20170706T180000
DTEND;TZID=Asia/Shanghai:20170708T213000
DTSTAMP:20260426T085422
CREATED:20170701T030000Z
LAST-MODIFIED:20170628T025825Z
UID:18456-1499364000-1499549400@onarto.com
SUMMARY:Hong Kong Arts Centre - Art Actually - HKxBrussels Multi-Arts Encounter
DESCRIPTION:A once in a lifetime chance to experience the act of artistic creation and actively take part as ideas come to life. \nA cross-cultural exchange between Belgium and Hong Kong\, rooted in the common language of dance\, but expanded to every art discipline: theatre\, circus\, film\, sound art\, textiles\, ink painting and installation. \nTwenty artists and nine performances over a single evening\, paired with a taste of Belgium’s finest craft beers and culinary treats. \nJoin us and be the spark of creativity\, where artistic minds meet. \nHong Kong Artists:\nDancer/Choreographer\nMUI CHEUK YIN\nDANIEL YEUNG\nYANG HAO\nMAO WEI\nTRACY WONG \nMoving Image/Multi Media\nJESSEY TSANG\nTSUI KA HEI HAZE \nComic Arts\nKONGKEE \nTheatre\nCHU PAK HIM \nFine Art\nFRANK TANG \nBrussels Artists:\nDancer/Choreographer\nSABINA SCARLAT \nVisual Arts and Multi Media\nCAMILLE PANZA\nPIERRE MERCIER\nERIC ARNAL BURTSCHY\nLOLA MEOTTI \nTextile Arts\nELISE PÉROI \nTheatre\nGAÏA SAITTA \nCircus Arts\nROSA-MARIE SCHMIDT \nSchedule:\n6:00-7:00pm\n3 x Site specific Performance @Hong Kong Arts Centre Main Entrance\, McAulay Studio (Free Admission\, registration in advance)\nOnline Registration: https://goo.gl/tojpIy \n7:30-9:30pm\n6 x Performances @Shouson Theatre\, Hong Kong Arts Centre\nTicket : $250\, $180\nEnjoy 30% off Early Bird discount on Standard Tickets on or before 21 May\, 2017! \nTickets are now available at URBTIX\nCredit Card Telephone Booking: 2111 5999\nMobile App Booking: My URBTIX (Android & iPhone/iPad)\nTicketing Enquiries: 2582 0278\nInternet Booking: https://www.urbtix.hk \nCo-presenters: Hong Kong Arts Centre and Les Halles de Schaerbeek\nAcknowledgement: Leisure and Cultural Services Department\nSupported by: Consulate General of Belgium in Hong Kong and Macau\, Belicious\, Gulden Draak\, Paijas\, Godiva\, CCDC Dance Centre\, V54\, Wingplatform \n  \n香港藝術中心與比利時的Les Halles de Schaerbeek於去年秋季在Les Halles合辦了「香港x布魯塞爾 布魯塞爾2016跨藝術馬拉松」。而2017的夏季，我們將會為香港帶回整個舞台，重新呈現那令人嘆為觀止的九場跨藝術表演。 \n「Art Actually」– 香港x布魯塞爾的跨藝術合作項目，讓香港與比利時的表演者進行跨文化交流，示範如何跨越領域、結合不同藝術形式，探索藝術與領域之間的界限，從而展示全新形式的表演。 \n  \n本地藝術家\n舞蹈家梅卓燕、楊春江、楊浩、毛維及黃翠絲；跨媒體藝術家曾翠珊（電影導演）、崔嘉曦（短片及動畫導演）、江記（漫畫家）、朱栢謙（表演藝術家）及鄧啟耀（視覺藝術家）。 \n比利時藝術家\n舞蹈家: SABINA SCARLAT、跨媒體/視覺藝術家: CAMILLE PANZA、PIERRE MERCIER、ERIC ARNAL BURTSCHY、LOLA MEOTTI、纺織藝術家: ELISE PÉROI、表演藝術家: GAÏA SAITTA、馬戲: ROSA-MARIE SCHMIDT \n日程：\n6:00-7:00pm\n3x特定場域演出@香港藝術中心正門、麥高利小劇場 (免費入場，需預先登記)\n網上登記﹕https://goo.gl/yhFbW2 \n7:30-9:30pm\n6 x劇場演出 @香港藝術中心壽臣劇院\n門票: $250\, $180\n2017年5月21日或之前購買標準門票可獲額外七折優惠！ \n門票現於城市售票網發售\n信用卡電話購票: 2111 5999\n流動應用程式購: My URBTIX (Android & iPhone/iPad)\n票務查詢: 2582 0278\n網上訂票: https://www.urbtix.hk \n合辦：香港藝術中心、Les Halles de Schaerbeek\n鳴謝：康樂及文化事務署\n支持機構：比利時駐香港總領事館、比利時手工啤酒有限公司、Gulden Draak、Paijas、Godiva、CCDC舞蹈中心、V54、永天台 \n 
URL:https://onarto.com/art-event/hong-kong-arts-centre-art-actually-hkxbrussels-multi-arts-encounter/
LOCATION:Hong Kong Arts Centre\, 2 Harbour Road\, Wan Chai\, Hong Kong\, Hong Kong\, Hong Kong
CATEGORIES:Art Fair,Other Events
ATTACH;FMTTYPE=image/jpeg:https://onarto.com/wp-content/uploads/2017/05/facebook_event_1126772427429137.jpg
END:VEVENT
END:VCALENDAR