BEGIN:VCALENDAR
VERSION:2.0
PRODID:-//Onarto Art Store - ECPv5.16.2.1//NONSGML v1.0//EN
CALSCALE:GREGORIAN
METHOD:PUBLISH
X-WR-CALNAME:Onarto Art Store
X-ORIGINAL-URL:https://onarto.com
X-WR-CALDESC:Events for Onarto Art Store
BEGIN:VTIMEZONE
TZID:Asia/Shanghai
BEGIN:STANDARD
TZOFFSETFROM:+0800
TZOFFSETTO:+0800
TZNAME:CST
DTSTART:20170101T000000
END:STANDARD
END:VTIMEZONE
BEGIN:VEVENT
DTSTART;TZID=Asia/Shanghai:20170624T100000
DTEND;TZID=Asia/Shanghai:20170624T173000
DTSTAMP:20260426T101902
CREATED:20170622T040059Z
LAST-MODIFIED:20170622T034111Z
UID:19633-1498298400-1498325400@onarto.com
SUMMARY:Gillman Barracks - NTU CCA Singapore - Art Day Out x School Holidays
DESCRIPTION:On the occasion of Art Day Out! at Gillman Barracks – The School Holidays Edition on 24 June 2017\, NTU CCA Singapore presents an exciting lineup of events! \nAll programmes are held at Block 43 Malan Road unless otherwise stated: \n10.00am – 1.00pm; 2.00 – 5.00pm\nWORKSHOP FOR KIDS: The Wunder Tribe\nBy artist AnGie Seah \nCome explore the diverse cultures in and around Singapore through popular tales! We will invent new characters\, focusing on stories from the region. Share experiences\, visions\, and emotions by creating symbolic and personalised objects! Designed for children aged 7 to 12.\nTo register: NTUCCAEducation@ntu.edu.sg \n*12.00 – 8.30pm\nSCREENING: Taiga. A Journey to Northern Mongolia by Ulrike Ottinger (Germany)\, 510 min \nOver eight hours long\, this documentary depicts the daily life and practices of nomadic peoples from the Darkhad mountain valley to the Sojon Urinjanghai in northern Mongolia. Divided into 38 stations\, the film documents ceremonies such as weddings\, festivals\, and shamanistic practices\, as well as gatherings\, offerings\, songs\, dances\, and professions. Following the different scenes rendered in real time\, we get familiar with the normadic peoples’ way of living\, their relationship to each other\, to the animals\, and to the land. Installed in five parts as part of the current exhibition Ulrike Ottinger: China. The Arts – The People\, Photographs\, and Films from the 1980s and 1990s\, this screening provides audiences with the opportunity to watch the film in one sitting. \n*3.00 – 3.30pm\nEXHIBITION TOUR in Mandarin of China. The Arts – The People\nLed by Khim Ong (Singapore)\, Deputy Director\, Exhibitions\, Residencies & Public Programmes\, NTU CCA Singapore \n*3.30 – 5.00pm\nRESIDENCIES STUDIO SESSIONS\nTalk by Geraldine Kang (Singapore)\, Artist-in-Residence\nStudio #01-07\, Block 38 Malan Road \nGeraldine Kang will discuss her projects and reflect upon her approach to photography as a tool to question identities and problematise our relationship to certain subjects. Her recent research focuses on the migrant labour force and their personal narratives. \n*5.00 – 5.30pm\nEXHIBITION TOUR in English of China. The Arts – The People\nLed by Syaheedah Iskandar (Singapore)\, Curatorial Assistant\, Outreach & Education\, NTU CCA Singapore \nLaunch of Pekaka\, Bird People Portraits 1/8 (Lim Kim Seng & Lim Kim Chua)\nBy The Migrant Ecologies Project (Lucy Davis\, Kee Ya Ting & Zai Tang) \nThe mixed-media selection presented in The Vitrine stems from Railtrack Songmaps\, a project exploring competing claims to nature and culture that resound along the former Malaysian railway tracks at Tanglin Halt. \nThe Migrant Ecologies Project was founded in 2010 by artist\, art writer\, and educator Lucy Davis who is Artist-in-Residence at NTU CCA Singapore from April to June 2017.\n(Installation runs until 3 September 2017)
URL:https://onarto.com/art-event/gillman-barracks-ntu-cca-singapore-art-day-out-x-school-holidays/
LOCATION:Gillman Barracks\, Gillman Barracks\, 9 Lock Rd Singapore 108937\, 108937\, Singapore
CATEGORIES:Art Course,Art Fair,Other Events
ATTACH;FMTTYPE=image/jpeg:https://onarto.com/wp-content/uploads/2017/06/facebook_event_1920999458142870.jpg
END:VEVENT
END:VCALENDAR