BEGIN:VCALENDAR
VERSION:2.0
PRODID:-//Onarto Art Store - ECPv5.16.2.1//NONSGML v1.0//EN
CALSCALE:GREGORIAN
METHOD:PUBLISH
X-WR-CALNAME:Onarto Art Store
X-ORIGINAL-URL:https://onarto.com
X-WR-CALDESC:Events for Onarto Art Store
BEGIN:VTIMEZONE
TZID:Asia/Shanghai
BEGIN:STANDARD
TZOFFSETFROM:+0800
TZOFFSETTO:+0800
TZNAME:CST
DTSTART:20170101T000000
END:STANDARD
END:VTIMEZONE
BEGIN:VEVENT
DTSTART;TZID=Asia/Shanghai:20170617T110000
DTEND;TZID=Asia/Shanghai:20170617T130000
DTSTAMP:20260426T113208
CREATED:20170610T031028Z
LAST-MODIFIED:20170606T025604Z
UID:18482-1497697200-1497704400@onarto.com
SUMMARY:Deck - Cyanotype: The Art of Sun Printing (The oldest forms)
DESCRIPTION:Pick up one of the oldest forms of printmaking\, invented more than 150 years ago and first used by biologists to document their botanical discoveries. See how a combination of science\, nature and art can produce some of the most beautiful and sublime images. \nDate & Time: 17 June 2017\, 11am – 1pm \nDuration: 2 Hours \nWorkshop Fee: 25 SGD\n40 SGD for Two Participants \nMaximum capacity: 20 \nMaterials and equipment will be provided.
URL:https://onarto.com/art-event/cyanotype-the-art-of-sun-printing/
LOCATION:DECK\, 120A Prinsep Street\, Singapore\, 187937\, Singapore
CATEGORIES:Art Course
ATTACH;FMTTYPE=image/jpeg:https://onarto.com/wp-content/uploads/2017/05/facebook_event_1283012765127575.jpg
END:VEVENT
END:VCALENDAR