BEGIN:VCALENDAR
VERSION:2.0
PRODID:-//Onarto Art Store - ECPv5.16.2.1//NONSGML v1.0//EN
CALSCALE:GREGORIAN
METHOD:PUBLISH
X-WR-CALNAME:Onarto Art Store
X-ORIGINAL-URL:https://onarto.com
X-WR-CALDESC:Events for Onarto Art Store
BEGIN:VTIMEZONE
TZID:Asia/Krasnoyarsk
BEGIN:STANDARD
TZOFFSETFROM:+0700
TZOFFSETTO:+0700
TZNAME:+07
DTSTART:20170101T000000
END:STANDARD
END:VTIMEZONE
BEGIN:VEVENT
DTSTART;TZID=Asia/Krasnoyarsk:20170616T190000
DTEND;TZID=Asia/Krasnoyarsk:20170617T150000
DTSTAMP:20260426T101445
CREATED:20170613T030055Z
LAST-MODIFIED:20170607T035930Z
UID:19171-1497639600-1497711600@onarto.com
SUMMARY:Project 189\, Chinatown - Burn My Eye Exhibition of Experimental Works
DESCRIPTION:In conjunction with the Pinhole Experimental Film Workshop that is being hosted at Project 189 in Chinatown\, We have decided to present Burn My Eye – an exhibition of experimental works created by the participants and facilitators during the 2-day Workshop. As yet\, we do not know what will be seen and how that result it will be recorded\, the only thing we know is that the mystery will prevail.
URL:https://onarto.com/art-event/burn-my-eye/
LOCATION:Project 189 Bangkok\, 189 Soi Rammitri off Soi Nana\, Rama 4 Rd\, Pom Prap\, Bangkok\, 10100\, Thailand
CATEGORIES:Art Course,Art Fair,Other Events
ATTACH;FMTTYPE=image/jpeg:https://onarto.com/wp-content/uploads/2017/06/facebook_event_1867265493525509.jpg
END:VEVENT
END:VCALENDAR