BEGIN:VCALENDAR
VERSION:2.0
PRODID:-//Onarto Art Store - ECPv5.16.2.1//NONSGML v1.0//EN
CALSCALE:GREGORIAN
METHOD:PUBLISH
X-WR-CALNAME:Onarto Art Store
X-ORIGINAL-URL:https://onarto.com
X-WR-CALDESC:Events for Onarto Art Store
BEGIN:VTIMEZONE
TZID:Asia/Shanghai
BEGIN:STANDARD
TZOFFSETFROM:+0800
TZOFFSETTO:+0800
TZNAME:CST
DTSTART:20170101T000000
END:STANDARD
END:VTIMEZONE
BEGIN:VEVENT
DTSTART;TZID=Asia/Shanghai:20170624T160000
DTEND;TZID=Asia/Shanghai:20170624T170000
DTSTAMP:20260426T101733
CREATED:20170619T030023Z
LAST-MODIFIED:20170619T051754Z
UID:19288-1498320000-1498323600@onarto.com
SUMMARY:Blindspot Gallery - Conversation with Artist : Angela Su
DESCRIPTION:Conversation with Artist | 與藝術家對談\nSpeakers 講者: Yeung Yang 楊陽 and Mary Lee 李挽靈 \nDate & Time: 24 June 2017 (Sat)\, 4pm\nVenue: Blindspot Gallery \nIt has been suggested that both science fiction and contemporary art express and explore concerns about the nature of human experience; and both are enthralled by technology and the possibilities of the future. So what do we get from the overlapping of sci-fi and art? \nHeld on the occasion of Angela Su’s solo exhibition and her sci-fi book project “Dark Fluid” (to be launched in August 2017)\, this talk will focus on science fiction as concept in Angela’s practice. Yeung Yang (art writer/ curator)\, Mary Lee (writer) and Angela will discuss their thoughts about science fiction and its relationship with contemporary art. \nPlease RSVP to Ms. Vera Lam at info@blindspotgallery.com or +852 2517 6238. \nDetails of exhibition: https://www.blindspotgallery.com/en/exhibitions/current/the-afterlife-of-rosy-leavers
URL:https://onarto.com/art-event/blindspot-gallery-conversation-with-artist-angela-su/
LOCATION:Blindspot Gallery\, 28 Wong Chuk Hang Rd\, Wong Chuk Hang\,\, Hong Kong
CATEGORIES:Other Events
ATTACH;FMTTYPE=image/jpeg:https://onarto.com/wp-content/uploads/2017/06/facebook_event_446047195766493.jpg
END:VEVENT
END:VCALENDAR