BEGIN:VCALENDAR
VERSION:2.0
PRODID:-//Onarto Art Store - ECPv5.16.2.1//NONSGML v1.0//EN
CALSCALE:GREGORIAN
METHOD:PUBLISH
X-WR-CALNAME:Onarto Art Store
X-ORIGINAL-URL:https://onarto.com
X-WR-CALDESC:Events for Onarto Art Store
BEGIN:VTIMEZONE
TZID:Asia/Krasnoyarsk
BEGIN:STANDARD
TZOFFSETFROM:+0700
TZOFFSETTO:+0700
TZNAME:+07
DTSTART:20170101T000000
END:STANDARD
END:VTIMEZONE
BEGIN:VEVENT
DTSTART;TZID=Asia/Krasnoyarsk:20170812T150000
DTEND;TZID=Asia/Krasnoyarsk:20170812T170000
DTSTAMP:20260426T073940
CREATED:20170811T030010Z
LAST-MODIFIED:20170731T040954Z
UID:20534-1502550000-1502557200@onarto.com
SUMMARY:BACC - Special Talk: The Inspired Books with Sean Buranahiran
DESCRIPTION:Special Talk: The Inspired Books with Sean Buranahiran\nBy BACC Art Library\, Bangkok Art and Culture Centre\nSaturday 12 August 2017 at 15.00-17.00 hrs.\nAuditorium\, 5th floor \nSpeaker: Sean Buranahiran\nInspired books: The Alchemists\, The Prophet and Miyamoto Musashi \n* Free entry\n* The talk will be in Thai only.\n* Registration starts at 14.00 hrs. \nFor more information: Art Library Tel. 02 214 6630-8 ext. 126\, 127 Email: library@bacc.or.th \n  \nกิจกรรมเสวนา เล่มบันดาลใจ (The Inspired Books) ตอน เล่มบันดาลใจของฌอน บูรณะหิรัญ\nจัดโดย ห้องสมุดศิลปะ หอศิลปวัฒนธรรมแห่งกรุงเทพมหานคร\nในวันเสาร์ที่ 12 สิงหาคม 2560 เวลา 15.00 -17.00 น.\nณ ห้องออดิทอเรียม ชั้น 5 \nวิทยากรโดย ฌอน บูรณะหิรัญ\nเล่มบันดาลใจ: ขุมทรัพย์สุดปลายฝัน (The Alchemists)\, ปรัชญาชีวิต (The Prophet) และ มูซาชิ (Miyamoto Musashi) \n* ไม่มีค่าใช้จ่ายในการเข้าร่วมกิจกรรม\n* การเสวนาครั้งนี้เป็นการเสวนาที่ใช้ภาษาไทยเท่านั้น\n* ลงทะเบียนเวลา 14.00 น. \nติดต่อสอบถามเพิ่มเติมที่\nห้องสมุดศิลปะ หอศิลปกรุงเทพฯ โทร. 02 214 6630-8 ต่อ 126\, 127 l อีเมล: library@bacc.or.th
URL:https://onarto.com/art-event/bacc-special-talk-the-inspired-books-with-sean-buranahiran/
LOCATION:BACC\, 939 Rama 1 Rd\, Pathum Wan\, Khet Pathum Wan\, Krung Thep Maha Nakhon 10330\, Bangkok\, Bangkok\, 10330\, Thailand
CATEGORIES:Art Course,Art Fair,Other Events
ATTACH;FMTTYPE=image/jpeg:https://onarto.com/wp-content/uploads/2017/07/facebook_event_1336311473154271.jpg
END:VEVENT
END:VCALENDAR