BEGIN:VCALENDAR
VERSION:2.0
PRODID:-//Onarto Art Store - ECPv5.16.2.1//NONSGML v1.0//EN
CALSCALE:GREGORIAN
METHOD:PUBLISH
X-WR-CALNAME:Onarto Art Store
X-ORIGINAL-URL:https://onarto.com
X-WR-CALDESC:Events for Onarto Art Store
BEGIN:VTIMEZONE
TZID:Asia/Krasnoyarsk
BEGIN:STANDARD
TZOFFSETFROM:+0700
TZOFFSETTO:+0700
TZNAME:+07
DTSTART:20170101T000000
END:STANDARD
END:VTIMEZONE
BEGIN:VEVENT
DTSTART;TZID=Asia/Krasnoyarsk:20170701T193000
DTEND;TZID=Asia/Krasnoyarsk:20170701T210000
DTSTAMP:20260426T100955
CREATED:20170630T030037Z
LAST-MODIFIED:20170628T031204Z
UID:19004-1498937400-1498942800@onarto.com
SUMMARY:BACC - Educational Theater : Adobo Monologue - PETA
DESCRIPTION:Exhibition Activity \nThe event is a part of Mode of Liaisons exhibition on view at main gallery on 8th floor from 31 March – 2 July 2017. \nEDUCATIONAL THEATER\nADOBO MONOLOGUE\nArtist: Philippine Educational Theater Association (PETA) \nSaturday 1st July 2017\, at 19:30\nMulti-function room\, 1st floor\, BACC \nADOBO MONOLOGUE is a short performance about a boy and his relationship with his father\, which he narrates to the audience while cooking his specialty – chicken adobo. Originally staged at the PETA Theater Center\, this educational theater piece has toured different communities for the positive discipline advocacy of the Philippine Educational Theater Association – PETA ARTS Zone Project\, an advocacy campaign for positive discipline and Save the Children. \nThe exhibition events by BACC Exhibition Department and the Japan Foundation\, Bangkok \nFor more information\, please contact:\nExhibition Dept.\nBangkok Art and Culture Centre (BACC)\nTel. 02 214 6630 – 8 ext. 533\nexhibition@bacc.or.th\nhttps://www.bacc.or.th\nhttps://www.facebook.com/baccpage \nThe Japan Foundation\, Bangkok\nTel. 02 260 8560 – 4 Fax. 02 260 8565\nhttps://www.jfbkk.or.th\nhttps://www.facebook.com/jfbangkok \nABOUT ARTIST \nPhilippine Educational Theater Association (PETA) (f. 1967\, Philippines) In its early years\, the company developed a People’s Theater dedicated to social change and empowerment\, particularly of marginalized communities. PETA introduced plays written and performed in Filipino. Prior to transferring to its new performance venue in 2005\, most of PETA’s plays were performed at the Dulaang Rajah Sulayman\, an open-air theater in Intramuros\, Manila designed by Leandro Locsin. It has produced a significant number of plays since its founding in the late 1960s and is committed to artistic development\, education in theater and the arts\, and development through its strong outreach component. \nกิจกรรมนิทรรศการ \nกิจกรรมนี้เป็นส่วนหนึ่งของนิทรรศการ รยางค์สัมพันธ์ จัดขึ้น ณ ห้องนิทรรศการหลักชั้น 8 ระหว่างวันที่ 31 มีนาคม – 2 กรกฎาคม 2560 \nEDUCATIONAL THEATER\nอโดโบ ไมค์เดี่ยว\nศิลปิน: ฟิลิปปินส์ เอ็ดดูเคชั่นแนล เธียเตอร์ แอสโซซิเอชั่น (PETA) \nวันเสาร์ที่ 1 กรกฎาคม 2560 เวลา 19:30 น.\nห้องอเนกประสงค์ ชั้น 1 หอศิลปกรุงเทพฯ \nเมื่อศิลปะการแสดงทำหน้าที่เกินความเป็นศิลปะ และได้กลายเป็นเครื่องมือเพื่อสร้างการตระหนักรู้ต่อประเด็นที่เกิดขึ้นในสังคม อโดโบ ไมค์เดี่ยว เป็นการแสดงสดสั้นๆ เกี่ยวกับเด็กผู้ชาย ความสัมพันธ์ของเขาและพ่อ และอาหารประจำชาติของประเทศฟิลิปปินส์ “Chicken Adobo” อโดโบ ไมค์เดี่ยว จึงเป็นศิลปะการแสดงที่แตกต่าง เริ่มการแสดงครั้งแรกที่โรงละคร PETA ผลงานชิ้นนี้เดินทางไปในหลายชุมชนเพื่อการส่งเสริมการสร้างวินัยต่อเด็กด้วยวิธีสร้างสรรค์ ส่วนหนึ่งในผลงานหลายชิ้นของ ฟิลิปปินส์ เอ็ดดูเคชั่นแนล เธียเตอร์ แอสโซซิเอชั่น – PETA ARTS Zone Project โครงการศิลปะการแสดงที่ก้าวพรมแดนสู่บทบาททางการศึกษาเพื่อส่งเสริมประเด็นทางสังคม \nดำเนินงานโดย ฝ่ายนิทรรศการ หอศิลปวัฒนธรรมแห่งกรุงเทพมหานคร และเจแปนฟาวน์เดชั่น กรุงเทพฯ \nติดต่อและสอบถามรายละเอียดเพิ่มเติมได้ที่ :\nฝ่ายนิทรรศการ\nหอศิลปวัฒนธรรมแห่งกรุงเทพมหานคร\n939 ถนนพระราม 1 แขวงวังใหม่ เขตปทุมวัน กรุงเทพฯ 10330\nโทรศัพท์ 02 214 6630 – 8 ต่อ 533\nexhibition@bacc.or.th\nhttps://www.bacc.or.th\nhttps://www.facebook.com/baccpage \nเจแปนฟาวน์เดชั่น กรุงเทพฯ\nโทรศัพท์ 02 260 8560 – 4 โทรสาร 02 260 8565\nhttps://www.jfbkk.or.th\nhttps://www.facebook.com/jfbangkok \nhttps://www.facebook.com/ModeOfLiaisons \nเกี่ยวกับศิลปิน \nฟิลิปปินส์ เอ็ดดูเคชั่นแนล เธียเตอร์ แอสโซซิเอชั่น (PETA) (ก่อตั้ง 2510\, ฟิลิปปินส์) ในปีแรกเริ่ม บริษัทได้พัฒนา People’s Theater เพื่ออุทิศให้แก่การเปลี่ยนแปลงและการมอบอำนาจให้สังคม โดยเน้นไปยังส่วนชุมชนชายขอบ PETA ริเริ่มบทละครที่เขียนและแสดงด้วยภาษาฟิลิปปินส์ ก่อนจะย้ายสถานที่การแสดงในปีพ.ศ. 2548 การแสดงส่วนใหญ่ของ PETA จัดขึ้นที่ Dulaang Rajah Sulayman โรงละครกลางแจ้งในอินทรามูรอส มะนิลา ซึ่งออกแบบโดย เลอันโดร ลอคซิน บริษัทได้ผลิตบทละครเป็นจำนวนมากนับตั้งแต่วันก่อตั้งในปลายยุคค.ศ. 1960 และมุ่งมั่นในการพัฒนาการศึกษาด้านการละครและศิลปะ เพื่อช่วยพัฒนาผู้ด้อยโอกาส
URL:https://onarto.com/art-event/bacc-educational-theater-adobo-monologue-peta/
LOCATION:BACC\, 939 Rama 1 Rd\, Pathum Wan\, Khet Pathum Wan\, Krung Thep Maha Nakhon 10330\, Bangkok\, Bangkok\, 10330\, Thailand
CATEGORIES:Art Fair
ATTACH;FMTTYPE=image/jpeg:https://onarto.com/wp-content/uploads/2017/06/facebook_event_437963696544705.jpg
END:VEVENT
END:VCALENDAR