BEGIN:VCALENDAR
VERSION:2.0
PRODID:-//Onarto Art Store - ECPv5.16.2.1//NONSGML v1.0//EN
CALSCALE:GREGORIAN
METHOD:PUBLISH
X-WR-CALNAME:Onarto Art Store
X-ORIGINAL-URL:https://onarto.com
X-WR-CALDESC:Events for Onarto Art Store
BEGIN:VTIMEZONE
TZID:Asia/Krasnoyarsk
BEGIN:STANDARD
TZOFFSETFROM:+0700
TZOFFSETTO:+0700
TZNAME:+07
DTSTART:20170101T000000
END:STANDARD
END:VTIMEZONE
BEGIN:VEVENT
DTSTART;TZID=Asia/Krasnoyarsk:20170619T100000
DTEND;TZID=Asia/Krasnoyarsk:20170619T100000
DTSTAMP:20260426T101613
CREATED:20170611T030040Z
LAST-MODIFIED:20170606T030745Z
UID:19008-1497866400-1497866400@onarto.com
SUMMARY:Attic Studios - Kids Summer Art Camp For ages 6-10 years
DESCRIPTION:Summer is around the corner and we are happy to announce our KIDS SUMMER ART CAMP!!!!\nStarting Monday 19th June and continuing all the way till Friday 11th August our Art Instructors are looking forward to engaging your children in some wonderfully fun and inspiring art lessons. \nFor ages 6-10 years\, cost is 1\,200 per day or 5\,000 for the five days. Times are 10-1pm each day and a snack is included. \nPlease note our ever popular Saturday Kids Fine Art Classes will run as usual. Please contact us for any enquiries: Laurie 0939500046/info@attic-studios.com. ????????????
URL:https://onarto.com/art-event/attic-studios-kids-summer-art-camp/
LOCATION:Attic Studios\, 45/4 Sukhumvit Soi 31 Klongton Nua\, Wattana\, Bangkok\, 10110\, Thailand
CATEGORIES:Art Course,Art Fair,Other Events
ATTACH;FMTTYPE=image/jpeg:https://onarto.com/wp-content/uploads/2017/06/facebook_event_682239975279690.jpg
END:VEVENT
END:VCALENDAR