BEGIN:VCALENDAR
VERSION:2.0
PRODID:-//Onarto Art Store - ECPv5.16.2.1//NONSGML v1.0//EN
CALSCALE:GREGORIAN
METHOD:PUBLISH
X-WR-CALNAME:Onarto Art Store
X-ORIGINAL-URL:https://onarto.com
X-WR-CALDESC:Events for Onarto Art Store
BEGIN:VTIMEZONE
TZID:Asia/Krasnoyarsk
BEGIN:STANDARD
TZOFFSETFROM:+0700
TZOFFSETTO:+0700
TZNAME:+07
DTSTART:20170101T000000
END:STANDARD
END:VTIMEZONE
BEGIN:VEVENT
DTSTART;TZID=Asia/Krasnoyarsk:20170628T183000
DTEND;TZID=Asia/Krasnoyarsk:20170629T210000
DTSTAMP:20260426T101729
CREATED:20170620T030015Z
LAST-MODIFIED:20170619T041236Z
UID:19594-1498674600-1498770000@onarto.com
SUMMARY:Attic Studios - Japanese Woodblock Printing Evening Workshop!
DESCRIPTION:Back by popular demand\, Ralph Kiggell’s will be hosting a 2-night evening workshop on Japanese Woodblock Printing!! \nThe workshop will be running for two nights June 28th and 29th from 6:30pm-9pm. \nIf you missed this fantastic workshop last week this is your chance to join for a rare opportunity to learn from Ralph! \nSpace is very limited so reserve your space for the 2 nights now! \n2000THB per evening \nContact Attic Studios for reservations and inquiries
URL:https://onarto.com/art-event/attic-studios-japanese-woodblock-printing-evening-workshop/
LOCATION:Attic Studios\, 45/4 Sukhumvit Soi 31 Klongton Nua\, Wattana\, Bangkok\, 10110\, Thailand
CATEGORIES:Art Course,Art Fair,Other Events
ATTACH;FMTTYPE=image/jpeg:https://onarto.com/wp-content/uploads/2017/06/facebook_event_219968078511940.jpg
END:VEVENT
END:VCALENDAR