BEGIN:VCALENDAR
VERSION:2.0
PRODID:-//Onarto Art Store - ECPv5.16.2.1//NONSGML v1.0//EN
CALSCALE:GREGORIAN
METHOD:PUBLISH
X-WR-CALNAME:Onarto Art Store
X-ORIGINAL-URL:https://onarto.com
X-WR-CALDESC:Events for Onarto Art Store
BEGIN:VTIMEZONE
TZID:Asia/Krasnoyarsk
BEGIN:STANDARD
TZOFFSETFROM:+0700
TZOFFSETTO:+0700
TZNAME:+07
DTSTART:20170101T000000
END:STANDARD
END:VTIMEZONE
BEGIN:VEVENT
DTSTART;TZID=Asia/Krasnoyarsk:20170621T180000
DTEND;TZID=Asia/Krasnoyarsk:20170621T200000
DTSTAMP:20260426T101621
CREATED:20170620T040004Z
LAST-MODIFIED:20170620T031340Z
UID:19659-1498068000-1498075200@onarto.com
SUMMARY:Attic Studios - Attic After Dark: Life Drawing Workshop
DESCRIPTION:Join us for a fantastic life drawing class this Wednesday evening @ Attic Studios. There will be a live model and a brief lesson and warm up for those that aren’t familiar with the process of drawing figure. Short poses and lots of fun. Contact the studio for reservations and inquiries! \n1000THB per person\, BYOB ;-)
URL:https://onarto.com/art-event/attic-studios-attic-after-dark-life-drawing-workshop/
LOCATION:Attic Studios\, 45/4 Sukhumvit Soi 31 Klongton Nua\, Wattana\, Bangkok\, 10110\, Thailand
CATEGORIES:Art Course,Other Events
ATTACH;FMTTYPE=image/jpeg:https://onarto.com/wp-content/uploads/2017/06/facebook_event_1377095715715686.jpg
END:VEVENT
END:VCALENDAR