BEGIN:VCALENDAR
VERSION:2.0
PRODID:-//Onarto Art Store - ECPv5.16.2.1//NONSGML v1.0//EN
CALSCALE:GREGORIAN
METHOD:PUBLISH
X-WR-CALNAME:Onarto Art Store
X-ORIGINAL-URL:https://onarto.com
X-WR-CALDESC:Events for Onarto Art Store
BEGIN:VTIMEZONE
TZID:Asia/Krasnoyarsk
BEGIN:STANDARD
TZOFFSETFROM:+0700
TZOFFSETTO:+0700
TZNAME:+07
DTSTART:20170101T000000
END:STANDARD
END:VTIMEZONE
BEGIN:VEVENT
DTSTART;TZID=Asia/Krasnoyarsk:20170613T190000
DTEND;TZID=Asia/Krasnoyarsk:20170613T210000
DTSTAMP:20260426T112954
CREATED:20170609T031033Z
LAST-MODIFIED:20170607T032241Z
UID:19160-1497380400-1497387600@onarto.com
SUMMARY:Attic Studios - After Dark; Creative lesson (Watercolour)
DESCRIPTION:Boost your creativity in the evenings at Attic Studios: After Dark! \nEach night we bring you a fun and creative lesson to sharpen your creative and artistic skills in a relaxed and fun atmosphere. \nIf you missed our watercolor class we had at the beginning of the month\, this is your chance to join in on a great class! Learn about creating texture\, washes\, and much more! \n1000THB per person \nCoffee\, Tea\, & Biscuits provided \nBYOB ;-) \nContact Attic Studios for reservations and inquiries!
URL:https://onarto.com/art-event/attic-after-dark-water-color/
LOCATION:Attic Studios\, 45/4 Sukhumvit Soi 31 Klongton Nua\, Wattana\, Bangkok\, 10110\, Thailand
CATEGORIES:Art Course,Art Fair,Other Events
ATTACH;FMTTYPE=image/jpeg:https://onarto.com/wp-content/uploads/2017/06/facebook_event_930762827066087.jpg
END:VEVENT
END:VCALENDAR