BEGIN:VCALENDAR
VERSION:2.0
PRODID:-//Onarto Art Store - ECPv5.16.2.1//NONSGML v1.0//EN
CALSCALE:GREGORIAN
METHOD:PUBLISH
X-WR-CALNAME:Onarto Art Store
X-ORIGINAL-URL:https://onarto.com
X-WR-CALDESC:Events for Onarto Art Store
BEGIN:VTIMEZONE
TZID:Asia/Shanghai
BEGIN:STANDARD
TZOFFSETFROM:+0800
TZOFFSETTO:+0800
TZNAME:CST
DTSTART:20170101T000000
END:STANDARD
END:VTIMEZONE
BEGIN:VEVENT
DTSTART;TZID=Asia/Shanghai:20170628T190000
DTEND;TZID=Asia/Shanghai:20170628T210000
DTSTAMP:20260426T101655
CREATED:20170621T030017Z
LAST-MODIFIED:20170617T042144Z
UID:19564-1498676400-1498683600@onarto.com
SUMMARY:Visual Arts Centre Singapore - ART TALK: From Nanyang to Abstract
DESCRIPTION:ART TALK: Tracing the developments of Singapore Modern Art from Nanyang to Abstract \n[ABOUT]\nThis talk begins with a discussion of the pioneer artists who were influenced by French modernism in the form of Post-Impressionism\, which they combined with Chinese ideas and aesthetics to form a hybrid form known as the Nanyang style or idiom. The lecture then goes on to look at the next generation of artists who moved into the language of abstraction\, and who defined themselves as ‘modern’ artists\, breaking away from past traditions and styles to embrace a progressive approach that constantly sought out the ‘new’.\nThe discussion will conclude by highlighting the ongoing discourse on the question of what defines the modern\, pointing out that different movements\, rather than developing consecutively\, emerge and develop side by side. \nA wide range of artworks -many of which may be enjoyed in our national collections- will be used to illustrate the developments that took place over a span of almost 100 years. \n[THE SPEAKER]\nWith a doctorate from Oxford University and a Master of Science degree in Political and Economic Anthropology from London School of Economics\, Dr Sian Jay’s career has spanned a wide geographical and professional range. Once a Researcher at the British Museum in the Departments of Oriental Antiquities and Ethnography\, she later worked as a Commissioning Editor on the Grove Dictionary of Art and as Senior Editor for The Indonesian Heritage Series\, writing art reviews for The Straits Times and numerous other publications\, before being asked by the late Bro. Joseph McNally to join LASALLE College of the Arts to run an Art and Anthropology course. \nShe is currently teaching at LASALLE at Diploma and Bachelor of Arts level on the History of Art\, Design and Architecture. She continues to research and write for several cultural book projects and works closely with Corcovado Arts\, in Singapore\, presenting short art history courses to the public.
URL:https://onarto.com/art-event/art-talk-from-nanyang-to-abstract/
LOCATION:Visual Arts Centre Singapore\, 10 Penang Road\, #01-02 Dhoby Ghaut Green\, Singapore\, 238469\, Singapore
CATEGORIES:Other Events
ATTACH;FMTTYPE=image/jpeg:https://onarto.com/wp-content/uploads/2017/06/facebook_event_1417242864989015.jpg
END:VEVENT
END:VCALENDAR