BEGIN:VCALENDAR
VERSION:2.0
PRODID:-//Onarto Art Store - ECPv5.16.2.1//NONSGML v1.0//EN
CALSCALE:GREGORIAN
METHOD:PUBLISH
X-WR-CALNAME:Onarto Art Store
X-ORIGINAL-URL:https://onarto.com
X-WR-CALDESC:Events for Onarto Art Store
BEGIN:VTIMEZONE
TZID:Asia/Shanghai
BEGIN:STANDARD
TZOFFSETFROM:+0800
TZOFFSETTO:+0800
TZNAME:CST
DTSTART:20170101T000000
END:STANDARD
END:VTIMEZONE
BEGIN:VEVENT
DTSTART;TZID=Asia/Shanghai:20170624T140000
DTEND;TZID=Asia/Shanghai:20170624T190000
DTSTAMP:20260426T101854
CREATED:20170616T040002Z
LAST-MODIFIED:20170616T023653Z
UID:18732-1498312800-1498330800@onarto.com
SUMMARY:Gillman Barracks - The galleries' new exhibitions and special programmes.
DESCRIPTION:Art Day Out! returns on 24 June for a special School Holidays edition! Families can look forward to fun-filled art activities for the little ones\, in addition to the galleries’ new exhibitions and special programmes by Gillman Barracks tenants for the adults. \nHighlights of this edition include a specially commissioned interactive art tour by The Finger Players inspired by Gillman Barracks’ public art showcase\, LOCK ROUTE\, the opening of the second edition of the Singapore + Wallpaper* Handmade Classics exhibition\, a film screening and tours by NTU Centre for Contemporary Art\, as well as hands on art activities by Art Outreach and Playeum\, Children’s Centre for Creativity\, and much more. \nAll are welcome. Free admission. \nStay tuned to the event page for more updates! \n#gillmanbarracks #gbartdayout
URL:https://onarto.com/art-event/art-day-out-at-gillman-barracks-the-school-holidays-edition/
LOCATION:Gillman Barracks\, Gillman Barracks\, 9 Lock Rd Singapore 108937\, 108937\, Singapore
CATEGORIES:Art Course,Other Events
ATTACH;FMTTYPE=image/jpeg:https://onarto.com/wp-content/uploads/2017/05/facebook_event_1918319348439641.jpg
END:VEVENT
END:VCALENDAR