BEGIN:VCALENDAR
VERSION:2.0
PRODID:-//Onarto Art Store - ECPv5.16.2.1//NONSGML v1.0//EN
CALSCALE:GREGORIAN
METHOD:PUBLISH
X-WR-CALNAME:Onarto Art Store
X-ORIGINAL-URL:https://onarto.com
X-WR-CALDESC:Events for Onarto Art Store
BEGIN:VTIMEZONE
TZID:Asia/Shanghai
BEGIN:STANDARD
TZOFFSETFROM:+0800
TZOFFSETTO:+0800
TZNAME:CST
DTSTART:20170101T000000
END:STANDARD
END:VTIMEZONE
BEGIN:VEVENT
DTSTART;TZID=Asia/Shanghai:20170916T160000
DTEND;TZID=Asia/Shanghai:20170924T170000
DTSTAMP:20260426T073733
CREATED:20170916T030630Z
LAST-MODIFIED:20170915T094302Z
UID:21275-1505577600-1506272400@onarto.com
SUMMARY:The substation - Tours by Farez Najid - All Curators are Beep
DESCRIPTION:Tour synopsis \nA museum docent with split personality escorts the audience around the gallery commenting on the works that are on display. The character Beep is an eloquent punk that is well versed in the arts\, speaks to the audience about the works displayed with depth and understanding while Shuwab is a bitter\, out of work tour guide with limited understanding of the arts\, vilify the works of art at The Substations\, constantly disrupting the tour. They embody a single performer\, mirroring the extremes in the society/community towards the appreciation of Arts. \nAbout the guide \nFarez Najid was trained in BA(Acting) Lasalle College of the Arts for 2 Years. His work’s include “Prism” (Toy Factory Productions 2017)\, “Geylang” (WILD RICE 2016)\, and Tan Tarn How’s “Lady Soul and the Ultimate “S” Machine” (Esplanade Presents: 2015). Farez aspires to be an educator in the realm of theatre education. \n  \nDate of Tour \n\n16 September 2017/ 4pm – 5pm\n17 September 2017/ 4pm – 5pm\n23 September 2017/ 4pm – 5pm\n24 September 2017/ 4pm – 5pm
URL:https://onarto.com/art-event/all-curators-are-b-tours-farez/
LOCATION:The Substation\, 45 Armenian Street\, Singapore\, 179936\, Singapore
CATEGORIES:Other Events
ATTACH;FMTTYPE=image/jpeg:https://onarto.com/wp-content/uploads/2017/09/facebook_event_2230809713812102.jpg
END:VEVENT
END:VCALENDAR