BEGIN:VCALENDAR
VERSION:2.0
PRODID:-//Onarto Art Store - ECPv5.16.2.1//NONSGML v1.0//EN
CALSCALE:GREGORIAN
METHOD:PUBLISH
X-WR-CALNAME:Onarto Art Store
X-ORIGINAL-URL:https://onarto.com
X-WR-CALDESC:Events for Onarto Art Store
BEGIN:VTIMEZONE
TZID:Asia/Shanghai
BEGIN:STANDARD
TZOFFSETFROM:+0800
TZOFFSETTO:+0800
TZNAME:CST
DTSTART:20170101T000000
END:STANDARD
END:VTIMEZONE
BEGIN:VEVENT
DTSTART;TZID=Asia/Shanghai:20170706T180000
DTEND;TZID=Asia/Shanghai:20170706T200000
DTSTAMP:20260426T101730
CREATED:20170630T060017Z
LAST-MODIFIED:20170628T031836Z
UID:19722-1499364000-1499371200@onarto.com
SUMMARY:Akrame - Artyze - Post-AAF Celebration: Art & Gastronomy
DESCRIPTION:Dear friend\, \nPost Hong Kong Affordable Art Fair Celebration! \nARTYZE is delighted to partner with AKRAME to showcase summer collection with fresh insight and unique inspiration! \nDate: 6th July\, 2017 (Thursday)\nTime: 6-8pm Private Art Exhibition cocktail event by Artyze\n8:30 onwards Special tasting menu by Akrame\nVenue: Akrame (9B Ship Street\, Wan Chai) \nTo RSVP for exhibition\, please email: info@artyze.com\nTo RSVP for tasting\, please click the link for reservation (www.akrame.com.hk).\nSeats are limited. \nEnjoy beautiful art and delicious food all in one night!
URL:https://onarto.com/art-event/akrame-artyze-post-aaf-celebration-art-gastronomy/
CATEGORIES:Art Fair
ATTACH;FMTTYPE=image/jpeg:https://onarto.com/wp-content/uploads/2017/06/facebook_event_144175419479705.jpg
END:VEVENT
END:VCALENDAR