BEGIN:VCALENDAR
VERSION:2.0
PRODID:-//Onarto Art Store - ECPv5.16.2.1//NONSGML v1.0//EN
CALSCALE:GREGORIAN
METHOD:PUBLISH
X-WR-CALNAME:Onarto Art Store
X-ORIGINAL-URL:https://onarto.com
X-WR-CALDESC:Events for Onarto Art Store
BEGIN:VTIMEZONE
TZID:Asia/Krasnoyarsk
BEGIN:STANDARD
TZOFFSETFROM:+0700
TZOFFSETTO:+0700
TZNAME:+07
DTSTART:20170101T000000
END:STANDARD
END:VTIMEZONE
BEGIN:VEVENT
DTSTART;TZID=Asia/Krasnoyarsk:20170702T190000
DTEND;TZID=Asia/Krasnoyarsk:20170703T000000
DTSTAMP:20260426T084438
CREATED:20170630T040021Z
LAST-MODIFIED:20170628T031213Z
UID:19568-1499022000-1499040000@onarto.com
SUMMARY:JAM - Retrogaming Meet-Up: 8-bit Bangkok - Fight Night
DESCRIPTION:Retrogaming Meet-Up. \nFor this edition of 8-bit Bangkok\, we will be button bashing against each other with a bunch of different fighting games\, excluding Street Fighter. If there is another game not listed below you would like to also play let us know and we’ll see what we can do. \nPLAYING CONSOLE:\nAll different consoles emulated. \nGAMES INCLUDING:\n● Mortal Kombat Trilogy\n● Rival Schools\n● Bushido Blade\n● Tekken 3\n● Soulcalibur\n● Power Stone\n● Wu-Tang: Shaolin Style \nHosted by Jon Scott & Isara Chanpoldee \n________ \nVideo games will be played on a big projector screen. \n8-Bit Bangkok is a group with a shared interest in video gaming\, aliens\, VHS nostalgia and comics. \nWe get together to play retro videos games once a month at JAM. Super Nintendo\, Atari\, Master System\, Sega Saturn\, whatever.
URL:https://onarto.com/art-event/8-bit-bangkok-fight-night/
LOCATION:JAM\, 41 Soi Rong Nam Kang (Charoen Rat Soi 1)\, Sathorn - Surasak BTS Exit 2\, Bangkok\, 10120\, Thailand
CATEGORIES:Other Events
ATTACH;FMTTYPE=image/jpeg:https://onarto.com/wp-content/uploads/2017/06/facebook_event_101539380463714.jpg
END:VEVENT
END:VCALENDAR